BEGIN:VCALENDAR
VERSION:2.0
PRODID:-//Sherezade Panthaki - ECPv6.15.16//NONSGML v1.0//EN
CALSCALE:GREGORIAN
METHOD:PUBLISH
X-WR-CALNAME:Sherezade Panthaki
X-ORIGINAL-URL:https://www.sherezadepanthaki.com
X-WR-CALDESC:Events for Sherezade Panthaki
REFRESH-INTERVAL;VALUE=DURATION:PT1H
X-Robots-Tag:noindex
X-PUBLISHED-TTL:PT1H
BEGIN:VTIMEZONE
TZID:America/New_York
BEGIN:DAYLIGHT
TZOFFSETFROM:-0500
TZOFFSETTO:-0400
TZNAME:EDT
DTSTART:20240310T070000
END:DAYLIGHT
BEGIN:STANDARD
TZOFFSETFROM:-0400
TZOFFSETTO:-0500
TZNAME:EST
DTSTART:20241103T060000
END:STANDARD
BEGIN:DAYLIGHT
TZOFFSETFROM:-0500
TZOFFSETTO:-0400
TZNAME:EDT
DTSTART:20250309T070000
END:DAYLIGHT
BEGIN:STANDARD
TZOFFSETFROM:-0400
TZOFFSETTO:-0500
TZNAME:EST
DTSTART:20251102T060000
END:STANDARD
BEGIN:DAYLIGHT
TZOFFSETFROM:-0500
TZOFFSETTO:-0400
TZNAME:EDT
DTSTART:20260308T070000
END:DAYLIGHT
BEGIN:STANDARD
TZOFFSETFROM:-0400
TZOFFSETTO:-0500
TZNAME:EST
DTSTART:20261101T060000
END:STANDARD
BEGIN:DAYLIGHT
TZOFFSETFROM:-0500
TZOFFSETTO:-0400
TZNAME:EDT
DTSTART:20270314T070000
END:DAYLIGHT
BEGIN:STANDARD
TZOFFSETFROM:-0400
TZOFFSETTO:-0500
TZNAME:EST
DTSTART:20271107T060000
END:STANDARD
END:VTIMEZONE
BEGIN:VEVENT
DTSTART;TZID=America/New_York:20260325T190000
DTEND;TZID=America/New_York:20260325T220000
DTSTAMP:20260423T164325
CREATED:20250806T214008Z
LAST-MODIFIED:20250806T214008Z
UID:10000133-1774465200-1774476000@www.sherezadepanthaki.com
SUMMARY:Bach St. Matthew Passion
DESCRIPTION:Koerner Hall\, TELUS\, 273 Bloor St W\,\nToronto\, CANADA \nToronto Mendelssohn Choir\nJean-Sébastien Vallée\, conductor\nNicholas Nicolaidis\, evangelist\nJonathon Adams\, baritone\nSherezade Panthaki\, soprano\nAllyson McHardy\, mezzo-soprano\nIsaiah Bell\, tenor
URL:https://www.sherezadepanthaki.com/engagement/bach-st-matthew-passion-3/
CATEGORIES:25-26
ATTACH;FMTTYPE=image/jpeg:https://www.sherezadepanthaki.com/wp-content/uploads/2025/08/AStMatthewToronto-Medium.jpeg
END:VEVENT
BEGIN:VEVENT
DTSTART;TZID=America/New_York:20260324T190000
DTEND;TZID=America/New_York:20260324T220000
DTSTAMP:20260423T164325
CREATED:20250806T213147Z
LAST-MODIFIED:20250806T213147Z
UID:10000132-1774378800-1774389600@www.sherezadepanthaki.com
SUMMARY:Bach St. Matthew Passion
DESCRIPTION:Koerner Hall\, TELUS\, 273 Bloor St W\,\nToronto\, CANADA \nToronto Mendelssohn Choir\nJean-Sébastien Vallée\, conductor\nNicholas Nicolaidis\, evangelist\nJonathon Adams\, baritone\nSherezade Panthaki\, soprano\nAllyson McHardy\, mezzo-soprano\nIsaiah Bell\, tenor
URL:https://www.sherezadepanthaki.com/engagement/bach-st-matthew-passion-2/
CATEGORIES:25-26
ATTACH;FMTTYPE=image/jpeg:https://www.sherezadepanthaki.com/wp-content/uploads/2025/08/AStMatthewToronto-Medium.jpeg
END:VEVENT
BEGIN:VEVENT
DTSTART;TZID=America/New_York:20260321T193000
DTEND;TZID=America/New_York:20260321T220000
DTSTAMP:20260423T164325
CREATED:20250806T212450Z
LAST-MODIFIED:20250806T212649Z
UID:10000131-1774121400-1774130400@www.sherezadepanthaki.com
SUMMARY:Bach Ascension Oratorio and Cantata 21
DESCRIPTION:First Congregational Church\, 2345 Channing Way\,\nBerkeley\, California\nBWV 11 “Ascension Oratorio”\nBWV 21 “Ich hatte viel Bekümmernis” \nCantata Collective\nNicholas McGegan\, conductor\nSherezade Panthaki\, soprano\nPaul Max Tipton\, bass
URL:https://www.sherezadepanthaki.com/engagement/bach-ascension-oratorio-and-bwv-21-cantata-collective/
CATEGORIES:25-26
ATTACH;FMTTYPE=image/jpeg:https://www.sherezadepanthaki.com/wp-content/uploads/2025/07/CantColl-Medium.jpeg
END:VEVENT
BEGIN:VEVENT
DTSTART;TZID=America/New_York:20260102T193000
DTEND;TZID=America/New_York:20260102T213000
DTSTAMP:20260423T164325
CREATED:20250806T210749Z
LAST-MODIFIED:20250806T210749Z
UID:10000130-1767382200-1767389400@www.sherezadepanthaki.com
SUMMARY:A New Yeare's Gift - Parthenia Viol Consort
DESCRIPTION:The Church of St. Luke in the Fields\, 487 Hudson St\,\nNew York\, New York \nParthenia Viol Consort\nSherezade Panthaki\, soprano\nRos Morley\, viol\nLarry Lipnik\, viol\nLisa Terry\, viol\nBeverly Au\, viol\,
URL:https://www.sherezadepanthaki.com/engagement/a-new-yeares-gift-parthenia-viol-consort-2/
CATEGORIES:25-26
ATTACH;FMTTYPE=image/jpeg:https://www.sherezadepanthaki.com/wp-content/uploads/2023/08/AParthenia-Medium.jpeg
END:VEVENT
BEGIN:VEVENT
DTSTART;TZID=America/New_York:20251224T170000
DTEND;TZID=America/New_York:20251224T183000
DTSTAMP:20260423T164325
CREATED:20250804T165037Z
LAST-MODIFIED:20250804T165037Z
UID:10000129-1766595600-1766601000@www.sherezadepanthaki.com
SUMMARY:Vivaldi Four Seasons/ Virtuoso Arias - Santa Fe Pro Musica
DESCRIPTION:Lensic Performing Arts Center\, 211 W San Francisco St\,\nSanta Fe\, New Mexico \nSanta Fe Pro Musica Orchestra\nVivaldi motet and arias\nColin Jacobsen\, violin and leader\nSherezade Panthaki\, soprano
URL:https://www.sherezadepanthaki.com/engagement/vivaldi-four-seasons-virtuoso-arias-santa-fe-pro-musica/
CATEGORIES:25-26
ATTACH;FMTTYPE=image/jpeg:https://www.sherezadepanthaki.com/wp-content/uploads/2023/01/Sherezade-Panthaki-Half-length-5-Photo-credit_-David-Fung-Large.jpeg
END:VEVENT
BEGIN:VEVENT
DTSTART;TZID=America/New_York:20251224T140000
DTEND;TZID=America/New_York:20251224T153000
DTSTAMP:20260423T164325
CREATED:20250804T164532Z
LAST-MODIFIED:20250804T164532Z
UID:10000128-1766584800-1766590200@www.sherezadepanthaki.com
SUMMARY:Vivaldi’s Four Seasons/ Virtuoso Arias - Santa Fe Pro Musica
DESCRIPTION:Lensic Performing Arts Center\, 211 W San Francisco St\,\nSanta Fe\, New Mexico \nSanta Fe Pro Musica Orchestra\nVivaldi motet and arias\nColin Jacobsen\, violin and leader\nSherezade Panthaki\, soprano
URL:https://www.sherezadepanthaki.com/engagement/vivaldis-four-seasons-virtuoso-arias-santa-fe-pro-musica/
CATEGORIES:25-26
ATTACH;FMTTYPE=image/jpeg:https://www.sherezadepanthaki.com/wp-content/uploads/2023/01/Sherezade-Panthaki-Half-length-5-Photo-credit_-David-Fung-Large.jpeg
END:VEVENT
BEGIN:VEVENT
DTSTART;TZID=America/New_York:20251221T150000
DTEND;TZID=America/New_York:20251221T163000
DTSTAMP:20260423T164325
CREATED:20250804T163711Z
LAST-MODIFIED:20250804T163711Z
UID:10000127-1766329200-1766334600@www.sherezadepanthaki.com
SUMMARY:A Baroque Christmas - Handel's Silete venti
DESCRIPTION:New Mexico Museum of Art\, 107 W Palace Ave\,\nSanta Fe\, New Mexico \nSanta Fe Pro Musica Bach Ensemble\nColin Jacobsen\, violin and leader\nStephen Redfield\, violin and leader\nSherezade Panthaki\, soprano\nNicholas Cords\, viola\nKevin Vigneau\, oboe
URL:https://www.sherezadepanthaki.com/engagement/a-baroque-christmas-handels-silete-venti-2/
CATEGORIES:25-26
ATTACH;FMTTYPE=image/jpeg:https://www.sherezadepanthaki.com/wp-content/uploads/2023/01/Sherezade-Panthaki-Half-length-1-Photo-credit_-David-Fung-Large.jpeg
END:VEVENT
BEGIN:VEVENT
DTSTART;TZID=America/New_York:20251220T160000
DTEND;TZID=America/New_York:20251220T180000
DTSTAMP:20260423T164325
CREATED:20250804T163139Z
LAST-MODIFIED:20250804T163246Z
UID:10000126-1766246400-1766253600@www.sherezadepanthaki.com
SUMMARY:A Baroque Christmas -Handel's Silete venti
DESCRIPTION:New Mexico Museum of Art\, 107 W Palace Ave\,\nSanta Fe\, New Mexico \nSanta Fe Pro Musica Bach Ensemble\nColin Jacobsen\, violin and leader\nStephen Redfield\, violin and leader\nSherezade Panthaki\, soprano\nNicholas Cords\, viola\nKevin Vigneau\, oboe
URL:https://www.sherezadepanthaki.com/engagement/a-baroque-christmas-handels-silete-venti/
CATEGORIES:25-26
ATTACH;FMTTYPE=image/jpeg:https://www.sherezadepanthaki.com/wp-content/uploads/2023/01/Sherezade-Panthaki-Half-length-1-Photo-credit_-David-Fung-Large.jpeg
END:VEVENT
BEGIN:VEVENT
DTSTART;TZID=America/New_York:20251214T150000
DTEND;TZID=America/New_York:20251214T173000
DTSTAMP:20260423T164325
CREATED:20250804T161000Z
LAST-MODIFIED:20250804T161000Z
UID:10000125-1765724400-1765733400@www.sherezadepanthaki.com
SUMMARY:Handel's Messiah
DESCRIPTION:Powell Hall\, 718 N Grand Blvd\,\nSt. Louis\, Missouri \nSt. Louis Symphony\nNicholas McGegan\, conductor\nSherezade Panthaki\, soprano\nSara Couden\, contralto\nJohn Matthew Myers\, tenor\nPhilippe Sly\, bass-baritone\nSt. Louis Symphony Chorus\, Erin Freeman\, director
URL:https://www.sherezadepanthaki.com/engagement/handels-messiah-13/
CATEGORIES:25-26
ATTACH;FMTTYPE=image/jpeg:https://www.sherezadepanthaki.com/wp-content/uploads/2023/08/ABC-Medium-4.jpeg
END:VEVENT
BEGIN:VEVENT
DTSTART;TZID=America/New_York:20251213T193000
DTEND;TZID=America/New_York:20251213T220000
DTSTAMP:20260423T164325
CREATED:20250804T160542Z
LAST-MODIFIED:20250804T160706Z
UID:10000124-1765654200-1765663200@www.sherezadepanthaki.com
SUMMARY:Handel's Messiah
DESCRIPTION:Powell Hall\, 718 N Grand Blvd\,\nSt. Louis\, Missouri \nSt. Louis Symphony\nNicholas McGegan\, conductor\nSherezade Panthaki\, soprano\nSara Couden\, contralto\nJohn Matthew Myers\, tenor\nPhilippe Sly\, bass-baritone\nSt. Louis Symphony Chorus\, Erin Freeman\, director
URL:https://www.sherezadepanthaki.com/engagement/handels-messiah-12/
CATEGORIES:25-26
ATTACH;FMTTYPE=image/jpeg:https://www.sherezadepanthaki.com/wp-content/uploads/2023/08/ABC-Medium-4.jpeg
END:VEVENT
BEGIN:VEVENT
DTSTART;TZID=America/New_York:20251212T193000
DTEND;TZID=America/New_York:20251212T220000
DTSTAMP:20260423T164325
CREATED:20250728T013010Z
LAST-MODIFIED:20250804T160806Z
UID:10000123-1765567800-1765576800@www.sherezadepanthaki.com
SUMMARY:Handel's Messiah
DESCRIPTION:Powell Hall\, 718 N Grand Blvd\,\nSt. Louis\, Missouri \nSt. Louis Symphony\nNicholas McGegan\, conductor\nSherezade Panthaki\, soprano\nSara Couden\, contralto\nJohn Matthew Myers\, tenor\nPhilippe Sly\, bass-baritone\nSt. Louis Symphony Chorus\, Erin Freeman\, director
URL:https://www.sherezadepanthaki.com/engagement/handels-messiah-11/
CATEGORIES:25-26
ATTACH;FMTTYPE=image/jpeg:https://www.sherezadepanthaki.com/wp-content/uploads/2022/09/Cantata-Collective-Medium.jpeg
END:VEVENT
BEGIN:VEVENT
DTSTART;TZID=America/New_York:20251207T140000
DTEND;TZID=America/New_York:20251207T163000
DTSTAMP:20260423T164325
CREATED:20250728T012342Z
LAST-MODIFIED:20250728T012411Z
UID:10000122-1765116000-1765125000@www.sherezadepanthaki.com
SUMMARY:Handel's Messiah
DESCRIPTION:Hill Auditorium\, 825 North University Avenue\nAnn Arbor\, Michigan \nUMS Choral Union\nAnn Arbor Symphony Orchestra\nScott Hanoian\, conductor\nSherezade Panthaki\, soprano\nAryeh Nussbaum Cohen\, countertenor\nMiles Mykkanen\, tenor\nEnrico Lagasca\, bass-baritone
URL:https://www.sherezadepanthaki.com/engagement/handels-messiah-10/
CATEGORIES:25-26
ATTACH;FMTTYPE=image/jpeg:https://www.sherezadepanthaki.com/wp-content/uploads/2025/07/UMS-Messiah-Medium.jpeg
END:VEVENT
BEGIN:VEVENT
DTSTART;TZID=America/New_York:20251206T193000
DTEND;TZID=America/New_York:20251206T220000
DTSTAMP:20260423T164325
CREATED:20250728T012121Z
LAST-MODIFIED:20250728T012158Z
UID:10000121-1765049400-1765058400@www.sherezadepanthaki.com
SUMMARY:Handel's Messiah
DESCRIPTION:Hill Auditorium\, 825 North University Avenue\nAnn Arbor\, Michigan \nUMS Choral Union\nAnn Arbor Symphony Orchestra\nScott Hanoian\, conductor\nSherezade Panthaki\, soprano\nAryeh Nussbaum Cohen\, countertenor\nMiles Mykkanen\, tenor\nEnrico Lagasca\, bass-baritone
URL:https://www.sherezadepanthaki.com/engagement/handels-messiah-9/
CATEGORIES:25-26
ATTACH;FMTTYPE=image/jpeg:https://www.sherezadepanthaki.com/wp-content/uploads/2025/07/UMS-Messiah-Medium.jpeg
END:VEVENT
BEGIN:VEVENT
DTSTART;TZID=America/New_York:20251202T173000
DTEND;TZID=America/New_York:20251202T183000
DTSTAMP:20260423T164325
CREATED:20250813T022213Z
LAST-MODIFIED:20250919T232407Z
UID:10000139-1764696600-1764700200@www.sherezadepanthaki.com
SUMMARY:Music of Orlando Gibbons - Yale Consort
DESCRIPTION:Marquand Chapel at Yale University\, 409 Prospect Street\,\nNew Haven\, Connecticut \nYale Consort\nJames O’Donnell\, director\nSherezade Panthaki\, soprano
URL:https://www.sherezadepanthaki.com/engagement/music-of-orlando-gibbons-yale-consort/
CATEGORIES:25-26
ATTACH;FMTTYPE=image/jpeg:https://www.sherezadepanthaki.com/wp-content/uploads/2025/08/AYaleConsort-Medium.jpeg
END:VEVENT
BEGIN:VEVENT
DTSTART;TZID=America/New_York:20251123T143000
DTEND;TZID=America/New_York:20251123T170000
DTSTAMP:20260423T164325
CREATED:20250728T011619Z
LAST-MODIFIED:20250728T011619Z
UID:10000120-1763908200-1763917200@www.sherezadepanthaki.com
SUMMARY:Handel's Messiah
DESCRIPTION:Bradley Symphony Center\, 212 W Wisconsin Ave\,\nMilwaukee\, Wisconsin \nMilwaukee Symphony Orchestra\nNicholas McGegan\, conductor\nSherezade Panthaki\, soprano\nKey’mon Murrah\, countertenor\nThomas Cooley\, tenor\nEnrico Lagasca\, bass-baritone
URL:https://www.sherezadepanthaki.com/engagement/handels-messiah-8/
CATEGORIES:25-26
ATTACH;FMTTYPE=image/jpeg:https://www.sherezadepanthaki.com/wp-content/uploads/2023/08/ABC-Medium-4.jpeg
END:VEVENT
BEGIN:VEVENT
DTSTART;TZID=America/New_York:20251122T193000
DTEND;TZID=America/New_York:20251122T220000
DTSTAMP:20260423T164325
CREATED:20250728T011349Z
LAST-MODIFIED:20250728T011349Z
UID:10000119-1763839800-1763848800@www.sherezadepanthaki.com
SUMMARY:Handel's Messiah
DESCRIPTION:Bradley Symphony Center\, 212 W Wisconsin Ave\,\nMilwaukee\, Wisconsin \nMilwaukee Symphony Orchestra\nNicholas McGegan\, conductor\nSherezade Panthaki\, soprano\nKey’mon Murrah\, countertenor\nThomas Cooley\, tenor\nEnrico Lagasca\, bass-baritone
URL:https://www.sherezadepanthaki.com/engagement/handels-messiah-7/
CATEGORIES:25-26
ATTACH;FMTTYPE=image/jpeg:https://www.sherezadepanthaki.com/wp-content/uploads/2023/08/ABC-Medium-4.jpeg
END:VEVENT
BEGIN:VEVENT
DTSTART;TZID=America/New_York:20251121T193000
DTEND;TZID=America/New_York:20251121T220000
DTSTAMP:20260423T164325
CREATED:20250728T011039Z
LAST-MODIFIED:20250728T011151Z
UID:10000118-1763753400-1763762400@www.sherezadepanthaki.com
SUMMARY:Handel's Messiah
DESCRIPTION:Bradley Symphony Center\, 212 W Wisconsin Ave\,\nMilwaukee\, Wisconsin \nMilwaukee Symphony Orchestra\nNicholas McGegan\, conductor\nSherezade Panthaki\, soprano\nKey’mon Murrah\, countertenor\nThomas Cooley\, tenor\nEnrico Lagasca\, bass-baritone
URL:https://www.sherezadepanthaki.com/engagement/handels-messiah-6/
CATEGORIES:25-26
ATTACH;FMTTYPE=image/jpeg:https://www.sherezadepanthaki.com/wp-content/uploads/2023/08/ABC-Medium-4.jpeg
END:VEVENT
BEGIN:VEVENT
DTSTART;TZID=America/New_York:20251116T170000
DTEND;TZID=America/New_York:20251116T183000
DTSTAMP:20260423T164325
CREATED:20250728T004204Z
LAST-MODIFIED:20250728T004204Z
UID:10000117-1763312400-1763317800@www.sherezadepanthaki.com
SUMMARY:Cantata Collective Bach Cantata Gala Performance
DESCRIPTION:St. Mary Magdalen Church\, 2005 Berryman St.\,\nBerkeley\, California \nCantata Collective\nSherezade Panthaki\, soprano\nPaul Max Tipton\, bass
URL:https://www.sherezadepanthaki.com/engagement/cantata-collective-bach-cantata-gala-performance/
CATEGORIES:25-26
ATTACH;FMTTYPE=image/jpeg:https://www.sherezadepanthaki.com/wp-content/uploads/2025/07/CantColl-Medium.jpeg
END:VEVENT
BEGIN:VEVENT
DTSTART;TZID=America/New_York:20251018T170000
DTEND;TZID=America/New_York:20251018T190000
DTSTAMP:20260423T164325
CREATED:20250726T021031Z
LAST-MODIFIED:20250728T183806Z
UID:10000116-1760806800-1760814000@www.sherezadepanthaki.com
SUMMARY:Parthenia Viol Consort - Continental Connections
DESCRIPTION:75 Church Lane\nWestport\, Connecticut \nParthenia Viol Consort\nSherezade Panthaki\, soprano\nRos Morley\, viol\nCaroline Nicolas\,viol\nArnie Tanimoto\, viol\nLisa Terry\, viol
URL:https://www.sherezadepanthaki.com/engagement/parthenia-viol-consort-continental-connections/
CATEGORIES:25-26
ATTACH;FMTTYPE=image/jpeg:https://www.sherezadepanthaki.com/wp-content/uploads/2023/08/AParthenia-Medium.jpeg
END:VEVENT
BEGIN:VEVENT
DTSTART;TZID=America/New_York:20251014T173000
DTEND;TZID=America/New_York:20251014T183000
DTSTAMP:20260423T164325
CREATED:20250813T021807Z
LAST-MODIFIED:20250920T003831Z
UID:10000138-1760463000-1760466600@www.sherezadepanthaki.com
SUMMARY:Bach Cantata 47 - Yale Consort
DESCRIPTION:Marquand Chapel at Yale University\, 409 Prospect Street\nNew Haven\, Connecticut \nYale Consort\nBWV 47 “Wer sich selbst erhöhet”\nJames O’Donnell\, director\nSherezade Panthaki\, soprano
URL:https://www.sherezadepanthaki.com/engagement/bach-cantata-47-yale-consort/
CATEGORIES:25-26
ATTACH;FMTTYPE=image/jpeg:https://www.sherezadepanthaki.com/wp-content/uploads/2025/08/AYaleConsort-Medium.jpeg
END:VEVENT
END:VCALENDAR