BEGIN:VCALENDAR
VERSION:2.0
PRODID:-//Sherezade Panthaki - ECPv6.15.16//NONSGML v1.0//EN
CALSCALE:GREGORIAN
METHOD:PUBLISH
X-WR-CALNAME:Sherezade Panthaki
X-ORIGINAL-URL:https://www.sherezadepanthaki.com
X-WR-CALDESC:Events for Sherezade Panthaki
REFRESH-INTERVAL;VALUE=DURATION:PT1H
X-Robots-Tag:noindex
X-PUBLISHED-TTL:PT1H
BEGIN:VTIMEZONE
TZID:America/New_York
BEGIN:DAYLIGHT
TZOFFSETFROM:-0500
TZOFFSETTO:-0400
TZNAME:EDT
DTSTART:20230312T070000
END:DAYLIGHT
BEGIN:STANDARD
TZOFFSETFROM:-0400
TZOFFSETTO:-0500
TZNAME:EST
DTSTART:20231105T060000
END:STANDARD
BEGIN:DAYLIGHT
TZOFFSETFROM:-0500
TZOFFSETTO:-0400
TZNAME:EDT
DTSTART:20240310T070000
END:DAYLIGHT
BEGIN:STANDARD
TZOFFSETFROM:-0400
TZOFFSETTO:-0500
TZNAME:EST
DTSTART:20241103T060000
END:STANDARD
BEGIN:DAYLIGHT
TZOFFSETFROM:-0500
TZOFFSETTO:-0400
TZNAME:EDT
DTSTART:20250309T070000
END:DAYLIGHT
BEGIN:STANDARD
TZOFFSETFROM:-0400
TZOFFSETTO:-0500
TZNAME:EST
DTSTART:20251102T060000
END:STANDARD
BEGIN:DAYLIGHT
TZOFFSETFROM:-0500
TZOFFSETTO:-0400
TZNAME:EDT
DTSTART:20260308T070000
END:DAYLIGHT
BEGIN:STANDARD
TZOFFSETFROM:-0400
TZOFFSETTO:-0500
TZNAME:EST
DTSTART:20261101T060000
END:STANDARD
END:VTIMEZONE
BEGIN:VEVENT
DTSTART;TZID=America/New_York:20250416T183000
DTEND;TZID=America/New_York:20250416T193000
DTSTAMP:20260423T200539
CREATED:20250401T005235Z
LAST-MODIFIED:20250401T005235Z
UID:10000114-1744828200-1744831800@www.sherezadepanthaki.com
SUMMARY:Lamentations - Couperin: Prèmiere Leçon de Ténèbres
DESCRIPTION:St. Thomas Episcopal Church\, 830 Whitney Avenue\,\nNew Haven\, Connecticut \nSherezade Panthaki\, soprano\nMatthew Cramer\, bass-baritone\nMichael Rigsby\, viola da gamba\nStephen Gamboa-Diaz\, organ
URL:https://www.sherezadepanthaki.com/engagement/lamentations-couperin-premiere-lecon-de-tenebres/
CATEGORIES:24-25
ATTACH;FMTTYPE=image/jpeg:https://www.sherezadepanthaki.com/wp-content/uploads/2025/03/Screenshot-2025-03-31-at-8.50.23 PM-Medium.jpeg
END:VEVENT
BEGIN:VEVENT
DTSTART;VALUE=DATE:20250406
DTEND;VALUE=DATE:20250407
DTSTAMP:20260423T200539
CREATED:20240901T215600Z
LAST-MODIFIED:20240909T120031Z
UID:10000107-1743897600-1743983999@www.sherezadepanthaki.com
SUMMARY:A Thousand Regrets: Music of Josquin des Prez and his contemporaries
DESCRIPTION:St. Thomas’s Episcopal Church\, 830 Whitney Ave.\nNew Haven\, Connecticut \nElm City Viol Consort\nSchola Antiqua Singers of St. Thomas’s Episcopal Church\nSherezade Panthaki\, soprano
URL:https://www.sherezadepanthaki.com/engagement/a-thousand-regrets-music-of-josquin-des-prez-and-his-contemporaries/
CATEGORIES:24-25
ATTACH;FMTTYPE=image/jpeg:https://www.sherezadepanthaki.com/wp-content/uploads/2024/09/A-Elm-Medium.jpeg
END:VEVENT
BEGIN:VEVENT
DTSTART;TZID=America/New_York:20250321T190000
DTEND;TZID=America/New_York:20250321T220000
DTSTAMP:20260423T200539
CREATED:20240901T214816Z
LAST-MODIFIED:20240909T120032Z
UID:10000106-1742583600-1742594400@www.sherezadepanthaki.com
SUMMARY:Bach: St. Matthew Passion
DESCRIPTION:First Congregational Church\, 2345 Channing Way\nBerkeley\, California \nCantata Collective\nNicholas McGegan\, conductor\nThomas Cooley\, Evangelist\nPaul Max Tipton\, Jesus\nSherezade Panthaki\, soprano\nReginald Mobley\, alto\nJames Reese\, tenor\nHarrison Hinztsche\, bass
URL:https://www.sherezadepanthaki.com/engagement/bach-st-matthew-passion/
CATEGORIES:24-25
ATTACH;FMTTYPE=image/jpeg:https://www.sherezadepanthaki.com/wp-content/uploads/2024/09/A-Can-Medium.jpeg
END:VEVENT
BEGIN:VEVENT
DTSTART;TZID=America/New_York:20250303T193000
DTEND;TZID=America/New_York:20250303T220000
DTSTAMP:20260423T200539
CREATED:20240901T213513Z
LAST-MODIFIED:20240909T120032Z
UID:10000105-1741030200-1741039200@www.sherezadepanthaki.com
SUMMARY:Handel's Theodora\, HWV 245
DESCRIPTION:Harris Theater\, 205 E Randolph St\,\nChicago\, Illinois \nMusic of the Baroque Chorus & Orchestra\nNicholas Kraemer\, conductor\nAndrew Megill\, chorus director\nSherezade Panthaki\, soprano\nIestyn Davies\, tenor\nAllyson McHardy\, mezzo-soprano\nDavid Portillo\, tenor\nJonathan Woody\, bass-baritone
URL:https://www.sherezadepanthaki.com/engagement/handels-theodora-hwv-245-2/
CATEGORIES:24-25
ATTACH;FMTTYPE=image/jpeg:https://www.sherezadepanthaki.com/wp-content/uploads/2024/09/A-Theo-Medium.jpeg
END:VEVENT
BEGIN:VEVENT
DTSTART;TZID=America/New_York:20250302T193000
DTEND;TZID=America/New_York:20250302T220000
DTSTAMP:20260423T200539
CREATED:20240901T212650Z
LAST-MODIFIED:20240909T120032Z
UID:10000104-1740943800-1740952800@www.sherezadepanthaki.com
SUMMARY:Handel's Theodora\, HWV 245
DESCRIPTION:North Shore Center\, 9501 Skokie Blvd\,\nSkokie\, Illinois \nMusic of the Baroque Chorus & Orchestra\nNicholas Kraemer\, conductor\nAndrew Megill\, chorus director\nSherezade Panthaki\, soprano\nIestyn Davies\, tenor\nAllyson McHardy\, mezzo-soprano\nDavid Portillo\, tenor\nJonathan Woody\, bass-baritone
URL:https://www.sherezadepanthaki.com/engagement/handels-theodora-hwv-245/
CATEGORIES:24-25
ATTACH;FMTTYPE=image/jpeg:https://www.sherezadepanthaki.com/wp-content/uploads/2024/09/A-Theo-Medium.jpeg
END:VEVENT
BEGIN:VEVENT
DTSTART;TZID=America/New_York:20250223T170000
DTEND;TZID=America/New_York:20250223T183000
DTSTAMP:20260423T200539
CREATED:20240901T212009Z
LAST-MODIFIED:20240909T120032Z
UID:10000103-1740330000-1740335400@www.sherezadepanthaki.com
SUMMARY:Bach Cantatas 132\, 144\, 196
DESCRIPTION:St. Mary Magdalen Church\, 2005 Berryman St.\,\nBerkeley\, California \nCantata Collective\nSherezade Panthaki\, soprano\nSara Couden\, alto\nDavid Kurtenbach Rivera\, tenor\nPaul Max Tipton\, bass
URL:https://www.sherezadepanthaki.com/engagement/bach-cantatas-132-144-196/
CATEGORIES:24-25
ATTACH;FMTTYPE=image/jpeg:https://www.sherezadepanthaki.com/wp-content/uploads/2024/09/A-Cantata.jpeg
END:VEVENT
BEGIN:VEVENT
DTSTART;TZID=America/New_York:20250209T140000
DTEND;TZID=America/New_York:20250209T160000
DTSTAMP:20260423T200539
CREATED:20240901T210429Z
LAST-MODIFIED:20240909T120032Z
UID:10000102-1739109600-1739116800@www.sherezadepanthaki.com
SUMMARY:Mahler Symphony No. 4
DESCRIPTION:Miller Symphony Hall\, 23 N 6th St\,\nAllentown\, Pennsylvania \nAllentown Symphony Orchestra\nDiane Wittry\, conductor\nSherezade Panthaki\, soprano
URL:https://www.sherezadepanthaki.com/engagement/mahler-symphony-no-4/
CATEGORIES:24-25
ATTACH;FMTTYPE=image/jpeg:https://www.sherezadepanthaki.com/wp-content/uploads/2024/09/A-Allentown-Medium.jpeg
END:VEVENT
BEGIN:VEVENT
DTSTART;TZID=America/New_York:20250112T150000
DTEND;TZID=America/New_York:20250112T170000
DTSTAMP:20260423T200539
CREATED:20240901T204914Z
LAST-MODIFIED:20240909T120033Z
UID:10000101-1736694000-1736701200@www.sherezadepanthaki.com
SUMMARY:Kaleidoscope Vocal Ensemble in Concert
DESCRIPTION:Beall Concert Hall\, 961 East 18th Avenue\nEugene\, Oregon \nKaleidoscope Vocal Ensemble\nArianne Abela\, Artistic Director\nSherezade Panthaki and Michele Kennedy\, sopranos\nCecy Duarte and Michael Walker\, altos\nHaitham Haidar and Noah Horn\, tenors\nEnrico Lagasca\, Jonathan Woody\, basses
URL:https://www.sherezadepanthaki.com/engagement/kaleidoscope-vocal-ensemble-in-concert/
CATEGORIES:24-25
ATTACH;FMTTYPE=image/jpeg:https://www.sherezadepanthaki.com/wp-content/uploads/2024/09/A-kscope-Medium.jpeg
END:VEVENT
BEGIN:VEVENT
DTSTART;TZID=America/New_York:20241222T150000
DTEND;TZID=America/New_York:20241222T173000
DTSTAMP:20260423T200539
CREATED:20240901T204029Z
LAST-MODIFIED:20240909T120033Z
UID:10000100-1734879600-1734888600@www.sherezadepanthaki.com
SUMMARY:Handel's Messiah
DESCRIPTION:Roy Thomson Hall\, 60 Simcoe St\,\nToronto\, Ontario\, CANADA \nToronto Symphony Orchestra\nJean-Sébastien Vallée\, Conductor & TMC Artistic Director\nSherezade Panthaki\, soprano\nNicholas Burns\, countertenor\nJames Ley\, tenor\nEnrico Lagasca\, bass-baritone\nToronto Mendelssohn Choir
URL:https://www.sherezadepanthaki.com/engagement/handels-messiah-5/
CATEGORIES:24-25
ATTACH;FMTTYPE=image/jpeg:https://www.sherezadepanthaki.com/wp-content/uploads/2024/09/A-toronto-Medium-2.jpeg
END:VEVENT
BEGIN:VEVENT
DTSTART;TZID=America/New_York:20241221T200000
DTEND;TZID=America/New_York:20241221T223000
DTSTAMP:20260423T200539
CREATED:20240901T203835Z
LAST-MODIFIED:20240909T120033Z
UID:10000099-1734811200-1734820200@www.sherezadepanthaki.com
SUMMARY:Handel's Messiah
DESCRIPTION:Roy Thomson Hall\, 60 Simcoe St\,\nToronto\, Ontario\, CANADA \nToronto Symphony Orchestra\nJean-Sébastien Vallée\, Conductor & TMC Artistic Director\nSherezade Panthaki\, soprano\nNicholas Burns\, countertenor\nJames Ley\, tenor\nEnrico Lagasca\, bass-baritone\nToronto Mendelssohn Choir
URL:https://www.sherezadepanthaki.com/engagement/handels-messiah-4/
CATEGORIES:24-25
ATTACH;FMTTYPE=image/jpeg:https://www.sherezadepanthaki.com/wp-content/uploads/2024/09/A-toronto-Medium-2.jpeg
END:VEVENT
BEGIN:VEVENT
DTSTART;TZID=America/New_York:20241220T200000
DTEND;TZID=America/New_York:20241220T223000
DTSTAMP:20260423T200539
CREATED:20240901T203658Z
LAST-MODIFIED:20240909T120033Z
UID:10000098-1734724800-1734733800@www.sherezadepanthaki.com
SUMMARY:Handel's Messiah
DESCRIPTION:Roy Thomson Hall\, 60 Simcoe St\,\nToronto\, Ontario\, CANADA \nToronto Symphony Orchestra\nJean-Sébastien Vallée\, Conductor & TMC Artistic Director\nSherezade Panthaki\, soprano\nNicholas Burns\, countertenor\nJames Ley\, tenor\nEnrico Lagasca\, bass-baritone\nToronto Mendelssohn Choir
URL:https://www.sherezadepanthaki.com/engagement/handels-messiah-3/
CATEGORIES:24-25
ATTACH;FMTTYPE=image/jpeg:https://www.sherezadepanthaki.com/wp-content/uploads/2024/09/A-toronto-Medium-2.jpeg
END:VEVENT
BEGIN:VEVENT
DTSTART;TZID=America/New_York:20241218T200000
DTEND;TZID=America/New_York:20241218T223000
DTSTAMP:20260423T200539
CREATED:20240901T203503Z
LAST-MODIFIED:20240909T120033Z
UID:10000097-1734552000-1734561000@www.sherezadepanthaki.com
SUMMARY:Handel's Messiah
DESCRIPTION:Roy Thomson Hall\, 60 Simcoe St\,\nToronto\, Ontario\, CANADA \nToronto Symphony Orchestra\nJean-Sébastien Vallée\, Conductor & TMC Artistic Director\nSherezade Panthaki\, soprano\nNicholas Burns\, countertenor\nJames Ley\, tenor\nEnrico Lagasca\, bass-baritone\nToronto Mendelssohn Choir
URL:https://www.sherezadepanthaki.com/engagement/handels-messiah-2/
CATEGORIES:24-25
ATTACH;FMTTYPE=image/jpeg:https://www.sherezadepanthaki.com/wp-content/uploads/2024/09/A-toronto-Medium-2.jpeg
END:VEVENT
BEGIN:VEVENT
DTSTART;TZID=America/New_York:20241217T200000
DTEND;TZID=America/New_York:20241217T223000
DTSTAMP:20260423T200539
CREATED:20240901T203249Z
LAST-MODIFIED:20240909T120034Z
UID:10000096-1734465600-1734474600@www.sherezadepanthaki.com
SUMMARY:Handel's Messiah
DESCRIPTION:Roy Thomson Hall\, 60 Simcoe St\,\nToronto\, Ontario\, CANADA \nToronto Symphony Orchestra\nJean-Sébastien Vallée\, Conductor & TMC Artistic Director\nSherezade Panthaki\, soprano\nNicholas Burns\, countertenor\nJames Ley\, tenor\nEnrico Lagasca\, bass-baritone\nToronto Mendelssohn Choir
URL:https://www.sherezadepanthaki.com/engagement/handels-messiah/
CATEGORIES:24-25
ATTACH;FMTTYPE=image/jpeg:https://www.sherezadepanthaki.com/wp-content/uploads/2024/09/A-toronto-Medium-2.jpeg
END:VEVENT
BEGIN:VEVENT
DTSTART;TZID=America/New_York:20241213T193000
DTEND;TZID=America/New_York:20241213T220000
DTSTAMP:20260423T200539
CREATED:20240901T201856Z
LAST-MODIFIED:20240909T120034Z
UID:10000095-1734118200-1734127200@www.sherezadepanthaki.com
SUMMARY:A Bach Christmas
DESCRIPTION:First Congregational Church\, 2345 Channing Way\nBerkeley\, California \nPhilharmonia Baroque Chorale and Orchestra\nBach: Cantatas 62 and 147a\nGraupner: Reiner Geist\, lass doch mein Herz\nRuben Valenzuela conductor\nSherezade Panthaki soprano\nPhilharmonia Chorale\,\nValérie Sainte-Agathe chorale director
URL:https://www.sherezadepanthaki.com/engagement/a-bach-christmas-3/
CATEGORIES:24-25
ATTACH;FMTTYPE=image/jpeg:https://www.sherezadepanthaki.com/wp-content/uploads/2024/09/A-Ruben-Medium.jpeg
END:VEVENT
BEGIN:VEVENT
DTSTART;TZID=America/New_York:20241212T193000
DTEND;TZID=America/New_York:20241212T220000
DTSTAMP:20260423T200539
CREATED:20240901T201344Z
LAST-MODIFIED:20240909T120034Z
UID:10000094-1734031800-1734040800@www.sherezadepanthaki.com
SUMMARY:A Bach Christmas
DESCRIPTION:Herbst Theater\, 401 Van Ness Ave\,\nSan Francisco\, California \nPhilharmonia Baroque Chorale and Orchestra\nBach: Cantatas 62 and 147a\nGraupner: Reiner Geist\, lass doch mein Herz\nRuben Valenzuela conductor\nSherezade Panthaki soprano\nPhilharmonia Chorale\,\nValérie Sainte-Agathe chorale director
URL:https://www.sherezadepanthaki.com/engagement/a-bach-christmas-2/
CATEGORIES:24-25
ATTACH;FMTTYPE=image/jpeg:https://www.sherezadepanthaki.com/wp-content/uploads/2024/09/A-Ruben-Medium.jpeg
END:VEVENT
BEGIN:VEVENT
DTSTART;TZID=America/New_York:20241211T193000
DTEND;TZID=America/New_York:20241211T220000
DTSTAMP:20260423T200539
CREATED:20240901T194754Z
LAST-MODIFIED:20240909T120034Z
UID:10000093-1733945400-1733954400@www.sherezadepanthaki.com
SUMMARY:A Bach Christmas
DESCRIPTION:Stanford University Bing Concert Hall\, 327 Lasuen St\,\nStanford\, California \nPhilharmonia Baroque Orchestra and Chorale\nBach: Cantatas 62 and 147a\nGraupner: Reiner Geist\, lass doch mein Herz\nRuben Valenzuela\, conductor\nSherezade Panthaki soprano\nPhilharmonia Chorale\, Valérie Sainte-Agathe chorale director
URL:https://www.sherezadepanthaki.com/engagement/a-bach-christmas/
CATEGORIES:24-25
ATTACH;FMTTYPE=image/jpeg:https://www.sherezadepanthaki.com/wp-content/uploads/2024/09/A-Ruben-Medium.jpeg
END:VEVENT
BEGIN:VEVENT
DTSTART;TZID=America/New_York:20241208T150000
DTEND;TZID=America/New_York:20241208T170000
DTSTAMP:20260423T200539
CREATED:20240901T193732Z
LAST-MODIFIED:20240909T120034Z
UID:10000092-1733670000-1733677200@www.sherezadepanthaki.com
SUMMARY:Bach\, Corelli\, and Vivaldi
DESCRIPTION:Music Center at Strathmore\, 5301 Tuckerman Ln\,\nNorth Bethesda\, Maryland \nBaltimore Symphony Orchestra\nNicholas McGegan\, conductor\nSherezade Panthaki\, soprano\nDiana Moore\, mezzo-soprano\nThomas Cooley\, tenor\nEnrico Lagasca\, bass\nHandel Choir of Baltimore
URL:https://www.sherezadepanthaki.com/engagement/bach-corelli-and-vivaldi-2/
CATEGORIES:24-25
ATTACH;FMTTYPE=image/jpeg:https://www.sherezadepanthaki.com/wp-content/uploads/2024/09/A-Nicholas-Medium.jpeg
END:VEVENT
BEGIN:VEVENT
DTSTART;TZID=America/New_York:20241207T200000
DTEND;TZID=America/New_York:20241207T220000
DTSTAMP:20260423T200539
CREATED:20240901T192934Z
LAST-MODIFIED:20240909T120035Z
UID:10000091-1733601600-1733608800@www.sherezadepanthaki.com
SUMMARY:Bach\, Corelli\, and Vivaldi
DESCRIPTION:Music Center at Strathmore\, 5301 Tuckerman Ln\,\nNorth Bethesda\, Maryland \nBaltimore Symphony Orchestra\nNicholas McGegan\, conductor\nSherezade Panthaki\, soprano\nDiana Moore\, mezzo-soprano\nThomas Cooley\, tenor\nEnrico Lagasca\, bass\nHandel Choir of Baltimore
URL:https://www.sherezadepanthaki.com/engagement/bach-corelli-and-vivaldi/
CATEGORIES:24-25
ATTACH;FMTTYPE=image/jpeg:https://www.sherezadepanthaki.com/wp-content/uploads/2024/09/A-Nicholas-Medium.jpeg
END:VEVENT
BEGIN:VEVENT
DTSTART;VALUE=DATE:20241122
DTEND;VALUE=DATE:20241125
DTSTAMP:20260423T200539
CREATED:20240901T190620Z
LAST-MODIFIED:20240909T120035Z
UID:10000090-1732233600-1732492799@www.sherezadepanthaki.com
SUMMARY:A Bicentenary Symposium on Maria Theresia Paradis
DESCRIPTION:Mount Holyoke College\nSouth Hadley\, Massachusetts \nReframing the Gaze: Maria Theresia Paradis\, Blind Musicians\, and Musical Culture in the Decades before Braille – A Bicentenary Symposium hosted by Mount Holyoke College\nSymposium leaders:\nAdeline Mueller (Mount Holyoke College)\nChristopher Parton (Princeton University)\nAnnette Richards (Cornell University)\nSherezade Panthaki\, soprano
URL:https://www.sherezadepanthaki.com/engagement/a-bicentenary-symposium-on-maria-theresia-paradis/
CATEGORIES:24-25
ATTACH;FMTTYPE=image/jpeg:https://www.sherezadepanthaki.com/wp-content/uploads/2024/09/A-Maria-Medium.jpeg
END:VEVENT
BEGIN:VEVENT
DTSTART;TZID=America/New_York:20241117T150000
DTEND;TZID=America/New_York:20241117T170000
DTSTAMP:20260423T200539
CREATED:20240901T174941Z
LAST-MODIFIED:20240909T120035Z
UID:10000089-1731855600-1731862800@www.sherezadepanthaki.com
SUMMARY:Kaleidoscope Vocal Ensemble Salon Recital
DESCRIPTION:Buckley Recital Hall\, 53 College St\nAmherst College\, Massachusetts \nKaleidoscope Vocal Ensemble\nArianne Abela\, Artistic Director\nSherezade Panthaki and Michele Kennedy\, sopranos\nCecy Duarte and Michael Walker\, altos\nHaitham Haidar and Noah Horn\, tenors\nEnrico Lagasca\, Jonathan Woody\, John Orduña\, basses
URL:https://www.sherezadepanthaki.com/engagement/kaleidoscope-vocal-ensemble-salon-recital/
CATEGORIES:24-25
ATTACH;FMTTYPE=image/jpeg:https://www.sherezadepanthaki.com/wp-content/uploads/2023/08/ABC-Medium-1.jpeg
END:VEVENT
BEGIN:VEVENT
DTSTART;TZID=America/New_York:20241116T193000
DTEND;TZID=America/New_York:20241116T213000
DTSTAMP:20260423T200539
CREATED:20240901T174356Z
LAST-MODIFIED:20240909T120035Z
UID:10000088-1731785400-1731792600@www.sherezadepanthaki.com
SUMMARY:Kaleidoscope Vocal Ensemble Concert
DESCRIPTION:Sage Hall\, 144 Green St\, Northampton\, MA 01063\nSmith College\, Massachusetts \nKaleidoscope Vocal Ensemble\nArianne Abela\, Artistic Director\nSherezade Panthaki and Michele Kennedy\, sopranos\nCecy Duarte and Michael Walker\, altos\nHaitham Haidar and Noah Horn\, tenors\nEnrico Lagasca\, Jonathan Woody\, John Orduña\, basses
URL:https://www.sherezadepanthaki.com/engagement/kaleidoscope-vocal-ensemble-concert/
CATEGORIES:24-25
ATTACH;FMTTYPE=image/jpeg:https://www.sherezadepanthaki.com/wp-content/uploads/2023/08/ABC-Medium-1.jpeg
END:VEVENT
BEGIN:VEVENT
DTSTART;VALUE=DATE:20241111
DTEND;VALUE=DATE:20241118
DTSTAMP:20260423T200539
CREATED:20240901T170552Z
LAST-MODIFIED:20240909T120035Z
UID:10000087-1731283200-1731887999@www.sherezadepanthaki.com
SUMMARY:Kaleidoscope Vocal Ensemble Five Colleges Residency
DESCRIPTION:Smith College\, Massachusetts\nMount Holyoke College\, Massachusetts\nAmherst College\, Massachusetts \n\nKaleidoscope Vocal Ensemble\nArianne Abela\, Artistic Director\nSherezade Panthaki and Michele Kennedy\, sopranos\nCecy Duarte and Michael Walker\, altos\nHaitham Haidar and Noah Horn\, tenors\nEnrico Lagasca\, Jonathan Woody\, John Orduña\, basses
URL:https://www.sherezadepanthaki.com/engagement/kaleidoscope-vocal-ensemble-five-colleges-residency/
CATEGORIES:24-25
ATTACH;FMTTYPE=image/jpeg:https://www.sherezadepanthaki.com/wp-content/uploads/2023/08/ABC-Medium-1.jpeg
END:VEVENT
BEGIN:VEVENT
DTSTART;TZID=America/New_York:20241027T190000
DTEND;TZID=America/New_York:20241027T210000
DTSTAMP:20260423T200539
CREATED:20240901T164724Z
LAST-MODIFIED:20240909T120035Z
UID:10000086-1730055600-1730062800@www.sherezadepanthaki.com
SUMMARY:
DESCRIPTION:San Francisco Conservatory Caroline Hume Concert Hall\, 50 Oak Street\,\nSan Francisco\, California \nVoices of Music\nSherezade Panthaki\, soprano\nIsabelle Seula Lee & Manami Mizumoto\, baroque violins\nWilliam Skeen\, baroque cello\nHanneke van Proosdij\, recorder & harpsichord\nDavid Tayler\, archlute & baroque guitar
URL:https://www.sherezadepanthaki.com/engagement/2751/
CATEGORIES:24-25
ATTACH;FMTTYPE=image/jpeg:https://www.sherezadepanthaki.com/wp-content/uploads/2024/09/A-Voices-of-Music-Medium.jpeg
END:VEVENT
BEGIN:VEVENT
DTSTART;TZID=America/New_York:20241026T193000
DTEND;TZID=America/New_York:20241026T213000
DTSTAMP:20260423T200539
CREATED:20240901T164022Z
LAST-MODIFIED:20240909T120036Z
UID:10000085-1729971000-1729978200@www.sherezadepanthaki.com
SUMMARY:Seicento - Italian Music of the 17th Century
DESCRIPTION:First Congregational Church\, 2345 Channing Way\nBerkeley\, California \nVoices of Music\nSherezade Panthaki\, soprano\nIsabelle Seula Lee & Manami Mizumoto\, baroque violins\nWilliam Skeen\, baroque cello\nHanneke van Proosdij\, recorder & harpsichord\nDavid Tayler\, archlute & baroque guitar
URL:https://www.sherezadepanthaki.com/engagement/seicento-italian-music-of-the-17th-century-2/
CATEGORIES:24-25
ATTACH;FMTTYPE=image/jpeg:https://www.sherezadepanthaki.com/wp-content/uploads/2024/09/A-Voices-of-Music-Medium.jpeg
END:VEVENT
BEGIN:VEVENT
DTSTART;TZID=America/New_York:20241025T190000
DTEND;TZID=America/New_York:20241025T210000
DTSTAMP:20260423T200539
CREATED:20240901T163532Z
LAST-MODIFIED:20240909T120036Z
UID:10000084-1729882800-1729890000@www.sherezadepanthaki.com
SUMMARY:Seicento - Italian Music of the 17th Century
DESCRIPTION:First United Methodist Church\, 625 Hamilton Ave\,\nPalo Alto\, California \n\nVoices of Music\nSherezade Panthaki\, soprano\nIsabelle Seula Lee & Manami Mizumoto\, baroque violins\nWilliam Skeen\, baroque cello\nHanneke van Proosdij\, recorder & harpsichord\nDavid Tayler\, archlute & baroque guitar
URL:https://www.sherezadepanthaki.com/engagement/seicento-italian-music-of-the-17th-century/
CATEGORIES:24-25
ATTACH;FMTTYPE=image/jpeg:https://www.sherezadepanthaki.com/wp-content/uploads/2024/09/A-Voices-of-Music-Medium.jpeg
END:VEVENT
BEGIN:VEVENT
DTSTART;TZID=America/New_York:20240915T140000
DTEND;TZID=America/New_York:20240915T153000
DTSTAMP:20260423T200539
CREATED:20240901T162506Z
LAST-MODIFIED:20240909T120036Z
UID:10000083-1726408800-1726414200@www.sherezadepanthaki.com
SUMMARY:Folger Consort - A Tale of Two CitiesMusic of 17th century Florence and Venice
DESCRIPTION:Folger Theater\, Folger Shakespeare Library\, 201 E Capitol St SE\,\nWashington\, DC \n\nFolger Consort\n  \nRobert Eisenstein and Christopher Kendall\, Artistic Directors\nSherezade Panthaki\, Soprano\nTatiana Chulochnikova\, Violin\nMarcello Mazzetti\, Instrumentalist\nWilliam Simms\, Instrumentalist\nLivio Ticli\, Instrumentalist
URL:https://www.sherezadepanthaki.com/engagement/folger-consort-a-tale-of-two-citiesmusic-of-17th-century-florence-and-venice-3/
CATEGORIES:24-25
ATTACH;FMTTYPE=image/jpeg:https://www.sherezadepanthaki.com/wp-content/uploads/2024/09/Folger-Medium.jpeg
END:VEVENT
BEGIN:VEVENT
DTSTART;TZID=America/New_York:20240914T190000
DTEND;TZID=America/New_York:20240914T203000
DTSTAMP:20260423T200539
CREATED:20240901T162312Z
LAST-MODIFIED:20240909T120036Z
UID:10000082-1726340400-1726345800@www.sherezadepanthaki.com
SUMMARY:Folger Consort - A Tale of Two CitiesMusic of 17th century Florence and Venice
DESCRIPTION:Folger Theater\, Folger Shakespeare Library\, 201 E Capitol St SE\,\nWashington\, DC \n\nFolger Consort\n  \nRobert Eisenstein and Christopher Kendall\, Artistic Directors\nSherezade Panthaki\, Soprano\nTatiana Chulochnikova\, Violin\nMarcello Mazzetti\, Instrumentalist\nWilliam Simms\, Instrumentalist\nLivio Ticli\, Instrumentalist
URL:https://www.sherezadepanthaki.com/engagement/folger-consort-a-tale-of-two-citiesmusic-of-17th-century-florence-and-venice-2/
CATEGORIES:24-25
ATTACH;FMTTYPE=image/jpeg:https://www.sherezadepanthaki.com/wp-content/uploads/2024/09/Folger-Medium.jpeg
END:VEVENT
BEGIN:VEVENT
DTSTART;TZID=America/New_York:20240914T160000
DTEND;TZID=America/New_York:20240914T173000
DTSTAMP:20260423T200539
CREATED:20240901T154146Z
LAST-MODIFIED:20240909T120036Z
UID:10000081-1726329600-1726335000@www.sherezadepanthaki.com
SUMMARY:Folger Consort - A Tale of Two CitiesMusic of 17th c. Florence and Venice
DESCRIPTION:Folger Theater\, Folger Shakespeare Library\, 201 E Capitol St SE\,\nWashington\, DC \n\nFolger Consort\n  \nRobert Eisenstein and Christopher Kendall\, Artistic Directors\nSherezade Panthaki\, Soprano\nTatiana Chulochnikova\, Violin\nMarcello Mazzetti\, Instrumentalist\nWilliam Simms\, Instrumentalist\nLivio Ticli\, Instrumentalist
URL:https://www.sherezadepanthaki.com/engagement/folger-consort-a-tale-of-two-citiesmusic-of-17th-c-florence-and-venice/
CATEGORIES:24-25
ATTACH;FMTTYPE=image/jpeg:https://www.sherezadepanthaki.com/wp-content/uploads/2024/09/Folger-Medium.jpeg
END:VEVENT
BEGIN:VEVENT
DTSTART;TZID=America/New_York:20240913T200000
DTEND;TZID=America/New_York:20240913T220000
DTSTAMP:20260423T200539
CREATED:20240901T152846Z
LAST-MODIFIED:20240909T120037Z
UID:10000080-1726257600-1726264800@www.sherezadepanthaki.com
SUMMARY:Folger Consort - A Tale of Two CitiesMusic of 17th century Florence and Venice
DESCRIPTION:Folger Theater\, Folger Shakespeare Library\, 201 E Capitol St SE\,\nWashington\, DC \n\nFolger Consort\n  \nRobert Eisenstein and Christopher Kendall\, Artistic Directors\nSherezade Panthaki\, Soprano\nTatiana Chulochnikova\, Violin\nMarcello Mazzetti\, Instrumentalist\nWilliam Simms\, Instrumentalist\nLivio Ticli\, Instrumentalist
URL:https://www.sherezadepanthaki.com/engagement/folger-consort-a-tale-of-two-citiesmusic-of-17th-century-florence-and-venice/
CATEGORIES:24-25
ATTACH;FMTTYPE=image/jpeg:https://www.sherezadepanthaki.com/wp-content/uploads/2024/09/Folger-Medium.jpeg
END:VEVENT
BEGIN:VEVENT
DTSTART;VALUE=DATE:20240618
DTEND;VALUE=DATE:20240626
DTSTAMP:20260423T200539
CREATED:20230828T223451Z
LAST-MODIFIED:20230828T223451Z
UID:10000075-1718668800-1719359999@www.sherezadepanthaki.com
SUMMARY:Bach Virtuosi Festival
DESCRIPTION:Portland\, Maine \nBach Virtuosi Festival\nLewis Kaplan Director\nSherezade Panthaki\, soprano\nJay Carter\, countertenor\nEmi Ferguson\, flute\nRenée Jolles and Ariadne Daskalakis\, violins\nSebastian Gottschick\, viola\nBeiliang Zhu\, cello\nArthur Haas\, harpsichord
URL:https://www.sherezadepanthaki.com/engagement/bach-virtuosi-festival-2/
ATTACH;FMTTYPE=image/jpeg:https://www.sherezadepanthaki.com/wp-content/uploads/2022/12/Bach-Virtuosi-Festival-picture-Medium.jpeg
END:VEVENT
END:VCALENDAR