BEGIN:VCALENDAR
VERSION:2.0
PRODID:-//Sherezade Panthaki - ECPv6.15.16//NONSGML v1.0//EN
CALSCALE:GREGORIAN
METHOD:PUBLISH
X-WR-CALNAME:Sherezade Panthaki
X-ORIGINAL-URL:https://www.sherezadepanthaki.com
X-WR-CALDESC:Events for Sherezade Panthaki
REFRESH-INTERVAL;VALUE=DURATION:PT1H
X-Robots-Tag:noindex
X-PUBLISHED-TTL:PT1H
BEGIN:VTIMEZONE
TZID:America/New_York
BEGIN:DAYLIGHT
TZOFFSETFROM:-0500
TZOFFSETTO:-0400
TZNAME:EDT
DTSTART:20210314T070000
END:DAYLIGHT
BEGIN:STANDARD
TZOFFSETFROM:-0400
TZOFFSETTO:-0500
TZNAME:EST
DTSTART:20211107T060000
END:STANDARD
BEGIN:DAYLIGHT
TZOFFSETFROM:-0500
TZOFFSETTO:-0400
TZNAME:EDT
DTSTART:20220313T070000
END:DAYLIGHT
BEGIN:STANDARD
TZOFFSETFROM:-0400
TZOFFSETTO:-0500
TZNAME:EST
DTSTART:20221106T060000
END:STANDARD
BEGIN:DAYLIGHT
TZOFFSETFROM:-0500
TZOFFSETTO:-0400
TZNAME:EDT
DTSTART:20230312T070000
END:DAYLIGHT
BEGIN:STANDARD
TZOFFSETFROM:-0400
TZOFFSETTO:-0500
TZNAME:EST
DTSTART:20231105T060000
END:STANDARD
BEGIN:DAYLIGHT
TZOFFSETFROM:-0500
TZOFFSETTO:-0400
TZNAME:EDT
DTSTART:20240310T070000
END:DAYLIGHT
BEGIN:STANDARD
TZOFFSETFROM:-0400
TZOFFSETTO:-0500
TZNAME:EST
DTSTART:20241103T060000
END:STANDARD
END:VTIMEZONE
BEGIN:VEVENT
DTSTART;TZID=America/New_York:20230507T143000
DTEND;TZID=America/New_York:20230507T163000
DTSTAMP:20260424T051739
CREATED:20220915T030207Z
LAST-MODIFIED:20230419T223544Z
UID:10000028-1683469800-1683477000@www.sherezadepanthaki.com
SUMMARY:Music of Monteverdi\, Woody\, and Shaw
DESCRIPTION:Folger Library\, 201 E Capitol St SE\,\nWashington\, DC \n\nKaleidoscope Vocal Ensemble and Folger Consort\nArianne Abela\, director\nRobert Eisenstein and Christopher Kendall\, directors
URL:https://www.sherezadepanthaki.com/engagement/music-of-monteverdi-and-jonathan-woody-4/
ATTACH;FMTTYPE=image/jpeg:https://www.sherezadepanthaki.com/wp-content/uploads/2022/09/Kaleidoscope-Medium.jpeg
END:VEVENT
BEGIN:VEVENT
DTSTART;TZID=America/New_York:20230506T190000
DTEND;TZID=America/New_York:20230506T203000
DTSTAMP:20260424T051739
CREATED:20220915T025949Z
LAST-MODIFIED:20230419T223619Z
UID:10000027-1683399600-1683405000@www.sherezadepanthaki.com
SUMMARY:Music of Monteverdi\, Woody\, and Shaw
DESCRIPTION:Folger Library\, 201 E Capitol St SE\,\nWashington\, DC \n\nKaleidoscope Vocal Ensemble and Folger Consort\nArianne Abela\, director\nRobert Eisenstein and Christopher Kendall\, directors
URL:https://www.sherezadepanthaki.com/engagement/music-of-monteverdi-and-jonathan-woody-3/
ATTACH;FMTTYPE=image/jpeg:https://www.sherezadepanthaki.com/wp-content/uploads/2022/09/Kaleidoscope-Medium.jpeg
END:VEVENT
BEGIN:VEVENT
DTSTART;TZID=America/New_York:20230506T160000
DTEND;TZID=America/New_York:20230506T173000
DTSTAMP:20260424T051739
CREATED:20220915T025751Z
LAST-MODIFIED:20230419T223657Z
UID:10000026-1683388800-1683394200@www.sherezadepanthaki.com
SUMMARY:Music of Monteverdi\, Woody\, Shaw
DESCRIPTION:Folger Library\, 201 E Capitol St SE\,\nWashington\, DC \n\nKaleidoscope Vocal Ensemble and Folger Consort\nArianne Abela\, director\nRobert Eisenstein and Christopher Kendall\, directors
URL:https://www.sherezadepanthaki.com/engagement/music-of-monteverdi-and-jonathan-woody-2/
ATTACH;FMTTYPE=image/jpeg:https://www.sherezadepanthaki.com/wp-content/uploads/2022/09/Kaleidoscope-Medium.jpeg
END:VEVENT
BEGIN:VEVENT
DTSTART;TZID=America/New_York:20230505T200000
DTEND;TZID=America/New_York:20230505T220000
DTSTAMP:20260424T051739
CREATED:20220915T025613Z
LAST-MODIFIED:20230419T223748Z
UID:10000025-1683316800-1683324000@www.sherezadepanthaki.com
SUMMARY:Music of Monteverdi\, Woody\, Shaw
DESCRIPTION:Folger Library\, 201 E Capitol St SE\,\nWashington\, DC \n\nKaleidoscope Vocal Ensemble and Folger Consort\nArianne Abela\, director\nRobert Eisenstein and Christopher Kendall\, directors
URL:https://www.sherezadepanthaki.com/engagement/music-of-monteverdi-and-jonathan-woody/
ATTACH;FMTTYPE=image/jpeg:https://www.sherezadepanthaki.com/wp-content/uploads/2022/09/Kaleidoscope-Medium.jpeg
END:VEVENT
BEGIN:VEVENT
DTSTART;TZID=America/New_York:20230430T160000
DTEND;TZID=America/New_York:20230430T173000
DTSTAMP:20260424T051739
CREATED:20220915T024706Z
LAST-MODIFIED:20220915T024706Z
UID:10000024-1682870400-1682875800@www.sherezadepanthaki.com
SUMMARY:Brahms: Requiem
DESCRIPTION:Santo Fragilio Performing Arts Center\,\nMiddletown\, Connecticut \n\nGreater Middletown Chorale\nSherezade Panthaki\, soprano\nJoseph D’Eugenio\, Director
URL:https://www.sherezadepanthaki.com/engagement/brahms-requiem/
ATTACH;FMTTYPE=image/webp:https://www.sherezadepanthaki.com/wp-content/uploads/2022/09/Greater-Middletown-Chorale.webp
END:VEVENT
BEGIN:VEVENT
DTSTART;TZID=America/New_York:20230423T150000
DTEND;TZID=America/New_York:20230423T170000
DTSTAMP:20260424T051739
CREATED:20230417T220520Z
LAST-MODIFIED:20230419T223250Z
UID:10000039-1682262000-1682269200@www.sherezadepanthaki.com
SUMMARY:Antonio Vivaldi: Cantatas and Arias
DESCRIPTION:Morgan Library Gilder Lehrman Hall\n225 Madison Avenue\, New York\, New York \nBoston Early Music Festival presents: \nEnsemble Castor; Rodolfo Richter\, leader\nSherezade Panthaki\, soprano \nCantata: In furore iustissimae irae\nCantata: Canta in prato\nAria: Gelido in ogni vena (from Farnace)
URL:https://www.sherezadepanthaki.com/engagement/antonio-vivaldi-cantatas-and-arias/
ATTACH;FMTTYPE=image/jpeg:https://www.sherezadepanthaki.com/wp-content/uploads/2023/04/Castor-Ensemble-Medium.jpeg
END:VEVENT
BEGIN:VEVENT
DTSTART;TZID=America/New_York:20230422T200000
DTEND;TZID=America/New_York:20230422T220000
DTSTAMP:20260424T051739
CREATED:20230417T215924Z
LAST-MODIFIED:20230418T173007Z
UID:10000038-1682193600-1682200800@www.sherezadepanthaki.com
SUMMARY:Antonio Vivaldi: Cantatas and Arias
DESCRIPTION:First Church in Cambridge Congregational\n11 Garden St\, Cambridge\, Massachusetts \nBoston Early Music Festival presents: \nEnsemble Castor; Rodolfo Richter\, leader\nSherezade Panthaki\, soprano \nCantata: In furore iustissimae irae\nCantata: Canta in prato\nAria: Gelido in ogni vena (from Farnace)
URL:https://www.sherezadepanthaki.com/engagement/antonio-vivaldi-cantatas-and-arias-bemf/
ATTACH;FMTTYPE=image/jpeg:https://www.sherezadepanthaki.com/wp-content/uploads/2023/04/Castor-Ensemble-Medium.jpeg
END:VEVENT
BEGIN:VEVENT
DTSTART;TZID=America/New_York:20230407T193000
DTEND;TZID=America/New_York:20230407T213000
DTSTAMP:20260424T051739
CREATED:20220915T024142Z
LAST-MODIFIED:20220915T024142Z
UID:10000023-1680895800-1680903000@www.sherezadepanthaki.com
SUMMARY:Bach: Mass in B Minor
DESCRIPTION:Centre in the Square\, 101 Queen St. N\, Kitchener\,\nOntario\, CANADA \n\nGrand Philharmonic Choir\nSherezade Panthaki\, Soprano\nJulia Dawson\, Mezzo-Soprano\nLawrence Wiliford\, Tenor\nJonathon Adams\, Baritone\nKitchener-Waterloo Symphony\nMark Vuorinen\, conductor
URL:https://www.sherezadepanthaki.com/engagement/bach-mass-in-b-minor-2/
ATTACH;FMTTYPE=image/jpeg:https://www.sherezadepanthaki.com/wp-content/uploads/2022/09/GPC_SingleEvent_FooterImg-Medium.jpeg
END:VEVENT
BEGIN:VEVENT
DTSTART;TZID=America/New_York:20230326T160000
DTEND;TZID=America/New_York:20230326T180000
DTSTAMP:20260424T051739
CREATED:20220915T021928Z
LAST-MODIFIED:20220915T021928Z
UID:10000022-1679846400-1679853600@www.sherezadepanthaki.com
SUMMARY:Bach: Easter OratorioHandel: Messiah Part III
DESCRIPTION:First Presbyterian Church\, 2344 Center St.\,\nBethlehem\, Pennsylvania \n\nBach Choir of Bethlehem\nSherezade Panthaki\, soprano\nChristopher Jackson\, director
URL:https://www.sherezadepanthaki.com/engagement/bach-easter-oratoriohandel-messiah-part-iii/
ATTACH;FMTTYPE=image/jpeg:https://www.sherezadepanthaki.com/wp-content/uploads/2022/09/Bach-Choir-Bethlehem-Medium.jpeg
END:VEVENT
BEGIN:VEVENT
DTSTART;TZID=America/New_York:20230320T190000
DTEND;TZID=America/New_York:20230320T213000
DTSTAMP:20260424T051739
CREATED:20220915T021337Z
LAST-MODIFIED:20220915T021337Z
UID:10000021-1679338800-1679347800@www.sherezadepanthaki.com
SUMMARY:Bach: Mass in B Minor
DESCRIPTION:First Congregational Church\, 2330 Durant Ave\,\nBerkeley\, California \n\nCantata Collective\nSherezade Panthaki\, soprano\nRhianna Cockrell\, alto\nThomas Cooley\, tenor\nPaul Max Tipton\, bass\nNicholas McGegan\, conductor\nCantata Collective Orchestra and Chorus
URL:https://www.sherezadepanthaki.com/engagement/bach-mass-in-b-minor/
ATTACH;FMTTYPE=image/jpeg:https://www.sherezadepanthaki.com/wp-content/uploads/2022/09/Cantata-Collective-Medium.jpeg
END:VEVENT
BEGIN:VEVENT
DTSTART;TZID=America/New_York:20230302T200000
DTEND;TZID=America/New_York:20230302T220000
DTSTAMP:20260424T051739
CREATED:20221222T180521Z
LAST-MODIFIED:20221223T005405Z
UID:10000035-1677787200-1677794400@www.sherezadepanthaki.com
SUMMARY:Bach cantatas BWV 18\, 36\, and 42
DESCRIPTION:Church of St. Vincent Ferrer\, 869 Lexington Avenue\,\nNew York\, New York \n  \nAmerican Classical Orchestra\nSherezade Panthaki\, soprano\nThomas Crawford\, conductor \n 
URL:https://www.sherezadepanthaki.com/engagement/bach-cantatas-bwv-18-36-and-42/
ATTACH;FMTTYPE=image/jpeg:https://www.sherezadepanthaki.com/wp-content/uploads/2022/12/tom-crawford-for-banner-Medium.jpeg
END:VEVENT
BEGIN:VEVENT
DTSTART;TZID=America/New_York:20230226T160000
DTEND;TZID=America/New_York:20230226T180000
DTSTAMP:20260424T051739
CREATED:20220915T020457Z
LAST-MODIFIED:20220915T020457Z
UID:10000020-1677427200-1677434400@www.sherezadepanthaki.com
SUMMARY:Enchanted Island - Music of Clérambault\, Montéclair\, and Rameau
DESCRIPTION:Herr Chapel at Plymouth Church UCC\, 2860 Coventry Rd\,\nShaker Heights\, Ohio \n\nLes Delices\nSherezade Panthaki\, soprano\nDebra Nagy\, oboe and director\nShelby Yamin\, violin\nRebecca Reed\, gamba\nMark Edwards\, harpsichord
URL:https://www.sherezadepanthaki.com/engagement/enchanted-island-music-of-clerambault-monteclair-and-rameau-3/
ATTACH;FMTTYPE=image/jpeg:https://www.sherezadepanthaki.com/wp-content/uploads/2022/09/Les-Delices-Medium.jpeg
END:VEVENT
BEGIN:VEVENT
DTSTART;TZID=America/New_York:20230225T193000
DTEND;TZID=America/New_York:20230225T213000
DTSTAMP:20260424T051739
CREATED:20220915T020205Z
LAST-MODIFIED:20220915T020728Z
UID:10000019-1677353400-1677360600@www.sherezadepanthaki.com
SUMMARY:Enchanted Island - Music of Clérambault\, Montéclair\, and Rameau
DESCRIPTION:Inlet Dance at Pivot Center\, 2937 W 25th St\,\nCleveland\, Ohio \nLes Delices\nSherezade Panthaki\, soprano\nDebra Nagy\, oboe and director\nShelby Yamin\, violin\nRebecca Reed\, gamba\nMark Edwards\, harpsichord
URL:https://www.sherezadepanthaki.com/engagement/enchanted-island-music-of-clerambault-monteclair-and-rameau-2/
ATTACH;FMTTYPE=image/jpeg:https://www.sherezadepanthaki.com/wp-content/uploads/2022/09/Les-Delices-Medium.jpeg
END:VEVENT
BEGIN:VEVENT
DTSTART;TZID=America/New_York:20230224T193000
DTEND;TZID=America/New_York:20230224T213000
DTSTAMP:20260424T051739
CREATED:20220915T015852Z
LAST-MODIFIED:20220915T015852Z
UID:10000018-1677267000-1677274200@www.sherezadepanthaki.com
SUMMARY:Enchanted Island - Music of Clérambault\, Montéclair\, and Rameau
DESCRIPTION:Holy Trinity Lutheran Church\, 50 N Prospect St\,\nAkron\, Ohio \n\nLes Delices\nSherezade Panthaki\, soprano\nDebra Nagy\, oboe and director\nShelby Yamin\, violin\nRebecca Reed\, gamba\nMark Edwards\, harpsichord
URL:https://www.sherezadepanthaki.com/engagement/enchanted-island-music-of-clerambault-monteclair-and-rameau/
ATTACH;FMTTYPE=image/jpeg:https://www.sherezadepanthaki.com/wp-content/uploads/2022/09/Les-Delices-Medium.jpeg
END:VEVENT
BEGIN:VEVENT
DTSTART;TZID=America/New_York:20230205T143000
DTEND;TZID=America/New_York:20230205T163000
DTSTAMP:20260424T051739
CREATED:20220915T014737Z
LAST-MODIFIED:20220915T014737Z
UID:10000017-1675607400-1675614600@www.sherezadepanthaki.com
SUMMARY:French Baroque Cantatas
DESCRIPTION:Pittsburgh Theological Seminary\, 616 N Highland Ave\nPittsburgh\, Pennsylvania \n\nChatham Baroque\nElisabeth Jacquet de la Guerre: L’ile de Delos\nSherezade Panthaki soprano\nAndrew Fouts violin\nPatricia Halverson viola da gamba\nScott Pauley theorbo\nKathryn Montoya baroque oboe\nKathie Stewart baroque flute\nCharlotte Mattax Moersch harpsichord
URL:https://www.sherezadepanthaki.com/engagement/french-baroque-cantatas/
ATTACH;FMTTYPE=image/jpeg:https://www.sherezadepanthaki.com/wp-content/uploads/2022/09/Chatham-Baroque-Medium.jpeg
END:VEVENT
BEGIN:VEVENT
DTSTART;TZID=America/New_York:20230204T193000
DTEND;TZID=America/New_York:20230204T213000
DTSTAMP:20260424T051739
CREATED:20220915T004121Z
LAST-MODIFIED:20220915T011306Z
UID:10000016-1675539000-1675546200@www.sherezadepanthaki.com
SUMMARY:French Baroque cantatas
DESCRIPTION:Calvary Episcopal Church\, 315 Shady Ave\,\nPittsburgh\, Pennsylvania \n\nChatham Baroque\nElisabeth Claude Jacquet de la Guerre: L’ile de Délos\nSherezade Panthaki soprano\nAndrew Fouts violin\nPatricia Halverson viola da gamba\nScott Pauley theorbo\nKathryn Montoya baroque oboe\nKathie Stewart baroque flute\nCharlotte Mattax Moersch harpsichord
URL:https://www.sherezadepanthaki.com/engagement/de-la-guerre-lile-de-delos/
ATTACH;FMTTYPE=image/jpeg:https://www.sherezadepanthaki.com/wp-content/uploads/2022/09/Chatham-Baroque-Medium.jpeg
END:VEVENT
BEGIN:VEVENT
DTSTART;TZID=America/New_York:20230126T193000
DTEND;TZID=America/New_York:20230126T210000
DTSTAMP:20260424T051739
CREATED:20220915T002900Z
LAST-MODIFIED:20221224T035035Z
UID:10000015-1674761400-1674766800@www.sherezadepanthaki.com
SUMMARY:Thompson: Prayer for Deliverance WORLD PREMIERE Monteverdi\, Woody\, Shaw\, Purcell
DESCRIPTION:Woolsey Hall\, 500 College Street\nNew Haven\, Connecticut \nKaleidoscope Vocal Ensemble\nSherezade Panthaki and Michele Kennedy\, sopranos\nCecilia Duarte and Reginald Mobley\, altos\nHaitham Haidar and Noah Horn\, tenors\nDashon Burton and Enrico Lagasca\, basses\nArianne Abela\, director\nYale Glee Club\, Jeffrey Douma\, director\nMorse Chorale\, Stephanie Tubiolo\, director
URL:https://www.sherezadepanthaki.com/engagement/joel-thompson-a-prayer-for-deliverance/
ATTACH;FMTTYPE=image/jpeg:https://www.sherezadepanthaki.com/wp-content/uploads/2022/09/Kaleidoscope-Medium.jpeg
END:VEVENT
BEGIN:VEVENT
DTSTART;TZID=America/New_York:20221217T190000
DTEND;TZID=America/New_York:20221217T213000
DTSTAMP:20260424T051739
CREATED:20220915T001443Z
LAST-MODIFIED:20220915T011754Z
UID:10000014-1671303600-1671312600@www.sherezadepanthaki.com
SUMMARY:Handel: Messiah
DESCRIPTION:David Geffen Hall\, Lincoln Center\, 10 Lincoln Center Plaza\,\nNew York\, New York \n\nNew York Philharmonic\nMasaaki Suzuki\, conductor\nSherezade Panthaki\, soprano\nReginald Mobley\, countertenor\nLeif Aruhn-Solén\, tenor\nJonathon Adams\, baritone\nHandel and Haydn Society Chorus
URL:https://www.sherezadepanthaki.com/engagement/handel-messiah-7/
ATTACH;FMTTYPE=image/jpeg:https://www.sherezadepanthaki.com/wp-content/uploads/2022/09/New-York-Phil-Medium.jpeg
END:VEVENT
BEGIN:VEVENT
DTSTART;TZID=America/New_York:20221216T140000
DTEND;TZID=America/New_York:20221216T163000
DTSTAMP:20260424T051739
CREATED:20220915T001036Z
LAST-MODIFIED:20220915T012052Z
UID:10000013-1671199200-1671208200@www.sherezadepanthaki.com
SUMMARY:Handel: Messiah
DESCRIPTION:David Geffen Hall\, Lincoln Center\, 10 Lincoln Center Plaza\,\nNew York\, New York \n\nNew York Philharmonic\nMasaaki Suzuki\, conductor\nSherezade Panthaki\, soprano\nReginald Mobley\, countertenor\nLeif Aruhn-Solén\, tenor\nJonathon Adams\, baritone\nHandel and Haydn Society Chorus
URL:https://www.sherezadepanthaki.com/engagement/handel-messiah-6/
ATTACH;FMTTYPE=image/jpeg:https://www.sherezadepanthaki.com/wp-content/uploads/2022/09/New-York-Phil-Medium.jpeg
END:VEVENT
BEGIN:VEVENT
DTSTART;TZID=America/New_York:20221215T190000
DTEND;TZID=America/New_York:20221215T220000
DTSTAMP:20260424T051739
CREATED:20220915T000752Z
LAST-MODIFIED:20220915T012529Z
UID:10000012-1671130800-1671141600@www.sherezadepanthaki.com
SUMMARY:Handel: Messiah
DESCRIPTION:David Geffen Hall\, Lincoln Center\, 10 Lincoln Center Plaza\,\nNew York\, New York \n\nNew York Philharmonic\nMasaaki Suzuki\, conductor\nSherezade Panthaki\, soprano\nReginald Mobley\, countertenor\nLeif Aruhn-Solén\, tenor\nJonathon Adams\, baritone\nHandel and Haydn Society Chorus
URL:https://www.sherezadepanthaki.com/engagement/handel-messiah-5/
ATTACH;FMTTYPE=image/jpeg:https://www.sherezadepanthaki.com/wp-content/uploads/2022/09/New-York-Phil-Medium.jpeg
END:VEVENT
BEGIN:VEVENT
DTSTART;TZID=America/New_York:20221214T190000
DTEND;TZID=America/New_York:20221214T213000
DTSTAMP:20260424T051739
CREATED:20220915T000412Z
LAST-MODIFIED:20220915T012717Z
UID:10000011-1671044400-1671053400@www.sherezadepanthaki.com
SUMMARY:Handel: Messiah
DESCRIPTION:David Geffen Hall\, Lincoln Center\, 10 Lincoln Center Plaza\,\nNew York\, New York \n\nNew York Philharmonic\nMasaaki Suzuki\, conductor\nSherezade Panthaki\, soprano\nReginald Mobley\, countertenor\nLeif Aruhn-Solén\, tenor\nJonathon Adams\, baritone\nHandel and Haydn Society Chorus
URL:https://www.sherezadepanthaki.com/engagement/handel-messiah-4/
ATTACH;FMTTYPE=image/jpeg:https://www.sherezadepanthaki.com/wp-content/uploads/2022/09/New-York-Phil-Medium.jpeg
END:VEVENT
BEGIN:VEVENT
DTSTART;TZID=America/New_York:20221213T190000
DTEND;TZID=America/New_York:20221213T213000
DTSTAMP:20260424T051739
CREATED:20220915T000156Z
LAST-MODIFIED:20220915T012837Z
UID:10000010-1670958000-1670967000@www.sherezadepanthaki.com
SUMMARY:Handel: Messiah
DESCRIPTION:David Geffen Hall\, Lincoln Center\, 10 Lincoln Center Plaza\,\nNew York\, New York \n\nNew York Philharmonic\nMasaaki Suzuki\, conductor\nSherezade Panthaki\, soprano\nReginald Mobley\, countertenor\nLeif Aruhn-Solén\, tenor\nJonathon Adams\, baritone\nHandel and Haydn Society Chorus
URL:https://www.sherezadepanthaki.com/engagement/handel-messiah-3/
ATTACH;FMTTYPE=image/jpeg:https://www.sherezadepanthaki.com/wp-content/uploads/2022/09/New-York-Phil-Medium.jpeg
END:VEVENT
BEGIN:VEVENT
DTSTART;TZID=America/New_York:20221209T193000
DTEND;TZID=America/New_York:20221209T220000
DTSTAMP:20260424T051739
CREATED:20220914T234402Z
LAST-MODIFIED:20220915T012932Z
UID:10000009-1670614200-1670623200@www.sherezadepanthaki.com
SUMMARY:Mozart: Exsultate jubilate
DESCRIPTION:Powell Hall\, 718 N Grand Blvd\,\nSt. Louis\, Missouri \n\nBach Society of St. Louis\nSherezade Panthaki\, soprano\nA. Dennis Sparger\, conductor
URL:https://www.sherezadepanthaki.com/engagement/mozart-exsultate-jubilate/
ATTACH;FMTTYPE=image/jpeg:https://www.sherezadepanthaki.com/wp-content/uploads/2022/09/Screen-Shot-2022-09-14-at-7.37.05-PM-Medium.jpeg
END:VEVENT
BEGIN:VEVENT
DTSTART;TZID=America/New_York:20221204T140000
DTEND;TZID=America/New_York:20221204T163000
DTSTAMP:20260424T051739
CREATED:20220914T221616Z
LAST-MODIFIED:20220915T013217Z
UID:10000008-1670162400-1670171400@www.sherezadepanthaki.com
SUMMARY:Handel: Messiah
DESCRIPTION:Hill Auditorium 825 North University Avenue\,\nAnn Arbor\, Michigan \n\nUniversity Musical Society Choral Union\nSherezade Panthaki\, soprano\nAryeh Nussbaum Cohen\, countertenor\nMiles Mykkanen\, tenor\nEnrico Lagasca\, bass-baritone\nScott Hanoian\, conductor\nAnn Arbor Symphony Orchestra
URL:https://www.sherezadepanthaki.com/engagement/handel-messiah-2/
ATTACH;FMTTYPE=image/jpeg:https://www.sherezadepanthaki.com/wp-content/uploads/2022/09/University-Choral-Union-Michigan-Medium.jpeg
END:VEVENT
BEGIN:VEVENT
DTSTART;TZID=America/New_York:20221203T193000
DTEND;TZID=America/New_York:20221203T220000
DTSTAMP:20260424T051739
CREATED:20220914T212432Z
LAST-MODIFIED:20220915T013520Z
UID:10000007-1670095800-1670104800@www.sherezadepanthaki.com
SUMMARY:Handel: Messiah
DESCRIPTION:Hill Auditorium 825 North University Avenue\,\nAnn Arbor\, Michigan \n\nUniversity Musical Society Choral Union\nSherezade Panthaki\, soprano\nAryeh Nussbaum Cohen\, countertenor\nMiles Mykkanen\, tenor\nEnrico Lagasca\, bass-baritone\nScott Hanoian\, conductor\nAnn Arbor Symphony Orchestra
URL:https://www.sherezadepanthaki.com/engagement/handel-messiah/
ATTACH;FMTTYPE=image/jpeg:https://www.sherezadepanthaki.com/wp-content/uploads/2022/09/University-Choral-Union-Michigan-Medium.jpeg
END:VEVENT
BEGIN:VEVENT
DTSTART;TZID=America/New_York:20221108T120000
DTEND;TZID=America/New_York:20221108T130000
DTSTAMP:20260424T051739
CREATED:20220914T210954Z
LAST-MODIFIED:20220915T013703Z
UID:10000006-1667908800-1667912400@www.sherezadepanthaki.com
SUMMARY:Bach Cantata 209 “Non sa che sia dolore”
DESCRIPTION:Central Moravian Church\, 73 West Church Street\,\nBethlehem\, Pennsylvania \n\nBach Choir of Bethlehem\nSherezade Panthaki\, soprano\nBart Kuijken\, baroque flute\nCharlotte Mattax Moersch\, harpsichord\nChristopher Jackson\, director
URL:https://www.sherezadepanthaki.com/engagement/bach-cantata-209-non-sa-che-sia-dolore/
ATTACH;FMTTYPE=image/jpeg:https://www.sherezadepanthaki.com/wp-content/uploads/2022/09/Bach-Choir-Bethlehem-Medium.jpeg
END:VEVENT
BEGIN:VEVENT
DTSTART;TZID=America/New_York:20221105T200000
DTEND;TZID=America/New_York:20221105T220000
DTSTAMP:20260424T051739
CREATED:20220914T202215Z
LAST-MODIFIED:20220915T014249Z
UID:10000005-1667678400-1667685600@www.sherezadepanthaki.com
SUMMARY:Reena Esmail: Say Your NameWORLD PREMIERE
DESCRIPTION:Buckley Recital Hall\, Amherst College\,\nAmherst\, Massachusetts \n\nAmherst College 19th Amendment and Bicentennial Celebration\nSherezade Panthaki\, soprano\nArianne Abela\, conductor\nAmherst College Glee Club and Orchestra
URL:https://www.sherezadepanthaki.com/engagement/reena-esmail-say-your-name-world-premiere/
LOCATION:Buckley Recital Hall\, Amherst\, MA\, 01002\, United States
ATTACH;FMTTYPE=image/jpeg:https://www.sherezadepanthaki.com/wp-content/uploads/2022/09/Reena-Esmail-picture-1-DSC_0397-credit-RachelGarcia-Medium.jpeg
END:VEVENT
BEGIN:VEVENT
DTSTART;TZID=America/New_York:20221022T190000
DTEND;TZID=America/New_York:20221022T210000
DTSTAMP:20260424T051739
CREATED:20220913T202304Z
LAST-MODIFIED:20220915T010015Z
UID:10000004-1666465200-1666472400@www.sherezadepanthaki.com
SUMMARY:John Blow: Venus and Adonis
DESCRIPTION:All Souls’ Episcopal Church\, 1475 Catalina Blvd\,\nSan Diego\, California \nBach Collegium San Diego\nRuben Valenzuela\, director\nJohn Blow: Venus and Adonis (Masque)\nJohn Blow: Ye Sons of Phoebus (Ode)\nPurcell: Music from the Fairy Queen\nSherezade Panthaki\, Soprano\nKristen Dubenion-Smith\, Mezzo-Soprano\nJay Carter\, Countertenor\nJohn Buffett\, Baritone
URL:https://www.sherezadepanthaki.com/engagement/bach-collegium-san-diego-2/
LOCATION:All Souls’ Episcopal Church\, 1475 Catalina Blvd\, San Diego\, CA\, 92107\, United States
ATTACH;FMTTYPE=image/jpeg:https://www.sherezadepanthaki.com/wp-content/uploads/2022/09/Bach-Colleguim-San-Diego-Medium.jpeg
END:VEVENT
BEGIN:VEVENT
DTSTART;TZID=America/New_York:20221021T190000
DTEND;TZID=America/New_York:20221021T210000
DTSTAMP:20260424T051739
CREATED:20220913T202138Z
LAST-MODIFIED:20220915T005721Z
UID:10000003-1666378800-1666386000@www.sherezadepanthaki.com
SUMMARY:John Blow: Venus and Adonis
DESCRIPTION:Saints Constantine & Helen Greek Orthodox Church\, 8459 Manchester Ave\,\nCardiff\, California \nBach Collegium San Diego\nRuben Valenzuela\, director\nJohn Blow: Venus and Adonis (Masque)\nJohn Blow: Ye Sons of Phoebus (Ode)\nPurcell: Music from the Fairy Queen\nSherezade Panthaki\, Soprano\nKristen Dubenion-Smith\, Mezzo-Soprano\nJay Carter\, Countertenor\nJohn Buffett\, Baritone
URL:https://www.sherezadepanthaki.com/engagement/bach-collegium-san-diego/
LOCATION:Saints Constantine & Helen Greek Orthodox Church\, 8459 Manchester Ave\, Cardiff\, CA\, 92007\, United States
ATTACH;FMTTYPE=image/jpeg:https://www.sherezadepanthaki.com/wp-content/uploads/2022/09/Bach-Colleguim-San-Diego-Medium-1.jpeg
END:VEVENT
BEGIN:VEVENT
DTSTART;TZID=America/New_York:20221015T160000
DTEND;TZID=America/New_York:20221015T180000
DTSTAMP:20260424T051739
CREATED:20220913T200806Z
LAST-MODIFIED:20220915T010236Z
UID:10000002-1665849600-1665856800@www.sherezadepanthaki.com
SUMMARY:Bach Cantata 199 "Mein Herze schwimmt in Blut"
DESCRIPTION:Neighborhood Unitarian Universalist Church\, 301 Orange Grove Blvd.\nPasadena\, California \n\nCon Gioia Early Music Ensemble\nBach arias and duets\nSherezade Panthaki\, soprano\nPreethi de Silva\, director
URL:https://www.sherezadepanthaki.com/engagement/con-gioia-early-music-ensemble/
ATTACH;FMTTYPE=image/jpeg:https://www.sherezadepanthaki.com/wp-content/uploads/2022/09/Screen-Shot-2022-09-13-at-3.04.37-PM-Large.jpeg
END:VEVENT
END:VCALENDAR